BEGIN:VCALENDAR
VERSION:2.0
PRODID:-//Eulaalia-valmennus - ECPv5.14.1//NONSGML v1.0//EN
CALSCALE:GREGORIAN
METHOD:PUBLISH
X-WR-CALNAME:Eulaalia-valmennus
X-ORIGINAL-URL:https://www.eulaalia.fi
X-WR-CALDESC:Tapahtumat Eulaalia-valmennus
REFRESH-INTERVAL;VALUE=DURATION:PT1H
X-Robots-Tag:noindex
X-PUBLISHED-TTL:PT1H
BEGIN:VTIMEZONE
TZID:Europe/Helsinki
BEGIN:DAYLIGHT
TZOFFSETFROM:+0200
TZOFFSETTO:+0300
TZNAME:EEST
DTSTART:20210328T010000
END:DAYLIGHT
BEGIN:STANDARD
TZOFFSETFROM:+0300
TZOFFSETTO:+0200
TZNAME:EET
DTSTART:20211031T010000
END:STANDARD
END:VTIMEZONE
BEGIN:VEVENT
DTSTART;TZID=Europe/Helsinki:20210617T173000
DTEND;TZID=Europe/Helsinki:20210617T193000
DTSTAMP:20260425T220507
CREATED:20210402T134418Z
LAST-MODIFIED:20210402T135256Z
UID:1586-1623951000-1623958200@www.eulaalia.fi
SUMMARY:Mitä palautuminen on?
DESCRIPTION:Tiedätkö\, mitä palautuminen on ja mikä merkitys palautumisella on hyvinvoinnille? \nTiedätkö mistä osa-alueista palautuminen koostuu?  \nTunnistatko\, minkä osa-alueen parantaminen edistäisi tällä hetkellä omaa palautumistasi? \nLiian harva\, vain noin kolmasosa ihmisistä\, palautuu riittävällä tasolla.  \nMikä on sinun tilanteesi ja kokemuksesi? Palaudutko riittävästi? \nTervetuloa kuulemaan asiaa palautumisesta ja pohtimaan samalla omaa tilannettasi palautumisohjaajan ja ratkaisukeskeisen valmentajan johdatuksella.  \nOmaa palautumistaan on mahdollista parantaa monin eri keinoin. Tarkoituksena ei ole kuitenkaan lähteä korjaamaan kaikkea kerralla\, vaan lähteä liikkeelle siitä osa-alueesta\, johon omat voimavarat ja elämäntilanne sillä hetkellä antavat mahdollisuuden.  \nTämän valmennuksen avulla saat ajatuksia palautumisesta yleisesti sekä oivalluksia siihen\, mistä kannattaisi lähteä liikkeelle. Jotta pystyy parantamaan palautumistasoaan\, on tärkeää tietää mitä palautuminen on\, ja mitä se tarkoittaa juuri sinun kohdallasi. \n  \nValmennus toteutetaan verkossa\, joten tarvitset rauhallisen tilan ja tietokoneen nettiyhteyksineen osallistumiseen. Ilmoittauduttuasi valmennukseen saat paluuviestinä linkin tapahtumaan ja laskun osallistumisestasi. Tarvitset valmennuksen aikana muistiinpanovälineitä sekä mahdollisuuden tehdä muutaman ohjatun harjoituksen omassa rauhassa. Osallistuminen ryhmäkeskusteluihin on vapaaehtoista\, mutta ajatusten jakaminen ja vertaistuki auttavat yleensä omien ajatuksien selventymisessä ja uusien oivalluksien syntymisessä. Keskustelut ovat luottamuksellisia ja osallistujat sitoutuvat vaitioloon valmennuksessa kuulemistaan asioista.  \n  \nIlmoittautumiset viim. 10.6.2021 meilitse osoitteeseen: maiju@eulaalia.fi \n  \nTietoa valmentajasta: \nMaiju Hietanen on Eulaalia-valmennuksen yrittäjä ja valmentaja. Hän on koulutukseltaan ratkaisukeskeinen valmentaja sekä palautumisohjaaja. Lisäksi hän on opiskellut työhyvinvointia\, Green Care -perusopintoja sekä toimii HSP Suomi ry:ssä erityisherkkien kokemusasiantuntijana. \nEulaalia-valmennuksen tavoitteena on auttaa asiakkaitaan tunnistamaan omat tarpeensa\, vahvuutensa\, rohkeutensa ja palautumiskeinonsa\, jotta he voivat toteuttaa tarvitsemansa muutoksen\, lisätä hyvinvointiaan ja elää onnellista elämää rauhasta käsin. \n  \nValmentajasta sanottua: \nOlet rauhallinen ja rauhoittava\, läsnäoleva ja kuunteleva. Tiedät\, mistä puhut ja valmennat selkeästi sekä ymmärrettävästi. Olet asiantuntija\, jonka ohjauksessa on turvallista olla. \nLisätietoa: \nEulaalia-valmennus: http://www.eulaalia.fi \n 
URL:https://www.eulaalia.fi/event/mita-palautuminen-on/
LOCATION:verkossa
CATEGORIES:Hyvinvointi,Palautuminen
ATTACH;FMTTYPE=image/jpeg:https://www.eulaalia.fi/wp-content/uploads/2021/04/Mita-palautuminen-on.jpg
END:VEVENT
END:VCALENDAR